BEGIN:VCALENDAR
PRODID:-//eluceo/ical//2.0/EN
VERSION:2.0
CALSCALE:GREGORIAN
BEGIN:VEVENT
UID:c2d955c8ac8a748d09788e434caa86c6
DTSTAMP:20260424T161805Z
SUMMARY:Weihnachtsfeier + Halbjahresversammlung
DESCRIPTION:Webbplats: https://drive.google.com/file/d/1Y4SH4JfYe2h9_72Xobh
 Cz68Xyo-V-4fo/view?usp=share_link
URL:https://rotaract.li/sv/agenda/show/206136
DTSTART;TZID=Europe/Zurich:20251215T190000
DTEND;TZID=Europe/Zurich:20251215T223000
LOCATION:Vadozner Huus\, Städtle 14\, 9490 Vaduz\, Liechtenstein
CATEGORIES:Rotaract
END:VEVENT
BEGIN:VTIMEZONE
TZID:Europe/Zurich
BEGIN:STANDARD
DTSTART:20251215T190000
TZNAME:CET
TZOFFSETTO:+0100
TZOFFSETFROM:+0100
END:STANDARD
END:VTIMEZONE
END:VCALENDAR
