BEGIN:VCALENDAR
PRODID:-//eluceo/ical//2.0/EN
VERSION:2.0
CALSCALE:GREGORIAN
BEGIN:VEVENT
UID:e63c394abb39a32f0f82c1292742bb74
DTSTAMP:20260425T124749Z
SUMMARY:Stamm
DESCRIPTION:Sito web: https://www.esquire.li
URL:https://rotaract.li/it/agenda/show/121500
DTSTART;TZID=Europe/Zurich:20180411T183000
DTEND;TZID=Europe/Zurich:20180411T203000
LOCATION:Esquire Bar\, Vaduz
CATEGORIES:Rotaract
END:VEVENT
BEGIN:VTIMEZONE
TZID:Europe/Zurich
BEGIN:DAYLIGHT
DTSTART:20180411T183000
TZNAME:CEST
TZOFFSETTO:+0200
TZOFFSETFROM:+0200
END:DAYLIGHT
END:VTIMEZONE
END:VCALENDAR
