BEGIN:VCALENDAR
PRODID:-//eluceo/ical//2.0/EN
VERSION:2.0
CALSCALE:GREGORIAN
BEGIN:VEVENT
UID:55866ff892d3e9fcc83efcd2ebd7a06a
DTSTAMP:20260425T110436Z
SUMMARY:Walking Stammtisch
DESCRIPTION:Fyrirlesari(ar): Wir gehen die Vaduz-Runde des Liechtenstein-We
 gs.\nTreffpunkt: Parkplatz Vaduz
URL:https://rotaract.li/is/agenda/show/122133
DTSTART;TZID=Europe/Zurich:20191023T183000
DTEND;TZID=Europe/Zurich:20191023T200000
LOCATION:Liechtenstein-Weg
CATEGORIES:Rotaract
END:VEVENT
BEGIN:VTIMEZONE
TZID:Europe/Zurich
BEGIN:DAYLIGHT
DTSTART:20191023T183000
TZNAME:CEST
TZOFFSETTO:+0200
TZOFFSETFROM:+0200
END:DAYLIGHT
END:VTIMEZONE
END:VCALENDAR
