BEGIN:VCALENDAR
PRODID:-//eluceo/ical//2.0/EN
VERSION:2.0
CALSCALE:GREGORIAN
BEGIN:VEVENT
UID:95bb2cf2ed09b7598ee66729cd15c858
DTSTAMP:20260425T110234Z
SUMMARY:Vereinsversammlung 2019
DESCRIPTION:
URL:https://rotaract.li/is/agenda/show/122013
DTSTART;TZID=Europe/Zurich:20190918T183000
DTEND;TZID=Europe/Zurich:20190918T210000
LOCATION:Uni Liechtenstein\, Vaduz
CATEGORIES:Rotaract
END:VEVENT
BEGIN:VTIMEZONE
TZID:Europe/Zurich
BEGIN:DAYLIGHT
DTSTART:20190918T183000
TZNAME:CEST
TZOFFSETTO:+0200
TZOFFSETFROM:+0200
END:DAYLIGHT
END:VTIMEZONE
END:VCALENDAR
