BEGIN:VCALENDAR
PRODID:-//eluceo/ical//2.0/EN
VERSION:2.0
CALSCALE:GREGORIAN
BEGIN:VEVENT
UID:31ab7263bae9355a7ae072a5fa9d0b90
DTSTAMP:20260421T102603Z
SUMMARY:Interdistriktkonferenz - IDK 2025
DESCRIPTION:
URL:https://rotaract.li/fr/agenda/show/192006
DTSTART;TZID=Europe/Zurich:20250412T100000
DTEND;TZID=Europe/Zurich:20250412T180000
LOCATION:Technopark Liechtenstein - Schaanerstrasse 27\, 9490 Vaduz\, Liech
 tenstein
CATEGORIES:Rotaract
END:VEVENT
BEGIN:VTIMEZONE
TZID:Europe/Zurich
BEGIN:DAYLIGHT
DTSTART:20250412T100000
TZNAME:CEST
TZOFFSETTO:+0200
TZOFFSETFROM:+0200
END:DAYLIGHT
END:VTIMEZONE
END:VCALENDAR
