BEGIN:VCALENDAR
PRODID:-//eluceo/ical//2.0/EN
VERSION:2.0
CALSCALE:GREGORIAN
BEGIN:VEVENT
UID:07980cb84050665c8971a1bcf67e2e9c
DTSTAMP:20260420T132112Z
SUMMARY:Stammtisch
DESCRIPTION:Sitio web: https://scanaua.li/
URL:https://rotaract.li/es/agenda/show/163396
DTSTART;TZID=Europe/Zurich:20230405T190000
DTEND;TZID=Europe/Zurich:20230405T210000
LOCATION:Scanaua\, Landstrasse 30\, 9494 Schaan\, Liechtenstein
CATEGORIES:Rotaract
END:VEVENT
BEGIN:VTIMEZONE
TZID:Europe/Zurich
BEGIN:DAYLIGHT
DTSTART:20230405T190000
TZNAME:CEST
TZOFFSETTO:+0200
TZOFFSETFROM:+0200
END:DAYLIGHT
END:VTIMEZONE
END:VCALENDAR
