BEGIN:VCALENDAR
PRODID:-//eluceo/ical//2.0/EN
VERSION:2.0
CALSCALE:GREGORIAN
BEGIN:VEVENT
UID:0ef67a0ce6217d274c9f7d6150f269f1
DTSTAMP:20260423T112557Z
SUMMARY:Stammtisch #1 🍻
DESCRIPTION:Website: http://www.esquirevaduz.li
URL:https://rotaract.li/en/agenda/show/149943
DTSTART;TZID=Europe/Zurich:20220928T190000
DTEND;TZID=Europe/Zurich:20220928T203000
LOCATION:Esquire Bar.Bistro\, Aeulestrasse 51\, 9490 Vaduz\, Liechtenstein
CATEGORIES:Rotaract
END:VEVENT
BEGIN:VTIMEZONE
TZID:Europe/Zurich
BEGIN:DAYLIGHT
DTSTART:20220928T190000
TZNAME:CEST
TZOFFSETTO:+0200
TZOFFSETFROM:+0200
END:DAYLIGHT
END:VTIMEZONE
END:VCALENDAR
