BEGIN:VCALENDAR
PRODID:-//eluceo/ical//2.0/EN
VERSION:2.0
CALSCALE:GREGORIAN
BEGIN:VEVENT
UID:00999196d5c9a36faa1df47de403d89a
DTSTAMP:20260422T125918Z
SUMMARY:EUCO Bericht
DESCRIPTION:Referenten/innen: Daniel Vogler\; Alexander Frick\; Celine Bitt
 ner
URL:https://rotaract.li/de/agenda/show/163393
DTSTART;TZID=Europe/Zurich:20230531T190000
DTEND;TZID=Europe/Zurich:20230531T200000
LOCATION:Teams Room
CATEGORIES:Rotaract
END:VEVENT
BEGIN:VTIMEZONE
TZID:Europe/Zurich
BEGIN:DAYLIGHT
DTSTART:20230531T190000
TZNAME:CEST
TZOFFSETTO:+0200
TZOFFSETFROM:+0200
END:DAYLIGHT
END:VTIMEZONE
END:VCALENDAR
